BEGIN:VCALENDAR
VERSION:2.0
PRODID:-//hacksw/handcal//NONSGML v1.0//EN
CALSCALE:GREGORIAN
BEGIN:VEVENT
LOCATION:Centru culturale Alb&rsquo\;Oru
DESCRIPTION:Une guitare à la mer | 56 mn &#8211\; à partir de 3 ans C’est l’histoire d’une fouine qui voudrait vivre comme elle l’entend . Mais les animaux des alentours se montrent rarement accueillants… Et si le bonheur c’était de trouver un ami pour jouer de la guitare au coin du feu ? C’est l’histoire [&hellip\;]
DTSTART:20250422T090000Z
DTEND:20250422T100000Z
SUMMARY:Une guitare à la mer | Ciné Zitelli
URL;VALUE=URI:https://agenda.bastia.corsica/agenda/une-guitare-a-la-mer-cine-zitelli/
DTSTAMP:20260423T201852Z
UID:69ea7eac75e9e
END:VEVENT
END:VCALENDAR