BEGIN:VCALENDAR
VERSION:2.0
PRODID:-//hacksw/handcal//NONSGML v1.0//EN
CALSCALE:GREGORIAN
BEGIN:VEVENT
LOCATION:Centru culturale Alb&rsquo\;Oru
DESCRIPTION:Croquette le chat merveilleux | 1h27 &#8211\; à partir de 6 ans C’est bien connu\, les chats ont plusieurs vies ! Croquette vient de gâcher celle de trop et il ferait tout pour retrouver Rose\, sa maîtresse adorée. On lui accorde une dernière chance\, cependant une règle a changé : Croquette peut revenir\, mais à [&hellip\;]
DTSTART:20250424T090000Z
DTEND:20250424T100000Z
SUMMARY:Croquette le chat merveilleux | Ciné Zitelli
URL;VALUE=URI:https://agenda.bastia.corsica/agenda/une-guitare-a-la-mer-cine-zitelli-2-2/
DTSTAMP:20260423T184408Z
UID:69ea68783b8b9
END:VEVENT
END:VCALENDAR