BEGIN:VCALENDAR
VERSION:2.0
PRODID:-//hacksw/handcal//NONSGML v1.0//EN
CALSCALE:GREGORIAN
BEGIN:VEVENT
LOCATION:Cinéma Le Studio
DESCRIPTION:Nous avons retenu le film réalisé en 1972\, Mimì metallurgico ferito nell’onore de Lina Wertmüller\, (1928-2021). Elle est la première femme à avoir reçu une nomination\, pour la mise en scène\, à l’Oscar en 1977 pour le film Pasqualino Settebellezze. En 2019\, elle recevra un Oscar d’honneur. Cette réalisatrice italienne est la grande oubliée de [&hellip\;]
DTSTART:20250527T173000Z
DTEND:20250527T183000Z
SUMMARY:Mimì metallurgico ferito nell’onore de Lina Wertmüller | Ciné-Club
URL;VALUE=URI:https://agenda.bastia.corsica/agenda/conference-doreste-sacchelli-cine-club-2/
DTSTAMP:20260423T171940Z
UID:69ea54ac5c4e5
END:VEVENT
END:VCALENDAR