BEGIN:VCALENDAR
VERSION:2.0
PRODID:-//hacksw/handcal//NONSGML v1.0//EN
CALSCALE:GREGORIAN
BEGIN:VEVENT
LOCATION:Cour du Palais des Gouverneurs
DESCRIPTION:Un spectacle de la compagnie U Teatrinu librement adapté de « Ревизор » de Nicolas Gogol Mise en scène et en écriture : Guy Cimino Avec les comédiens de U Teatrinu Bilingue corse-français Nasce u parapiglia è teni quand’omu ampara chì U REVIZOR (inspettore di u Guvernu) ghjunghje à cuntrullà tuttu u mondu ! Panica [&hellip\;]
DTSTART:20260625T203000Z
DTEND:20260625T213000Z
SUMMARY:U Revizor
URL;VALUE=URI:https://agenda.bastia.corsica/agenda/u-revizor/
DTSTAMP:20260420T025602Z
UID:69e595c25540c
END:VEVENT
END:VCALENDAR