BEGIN:VCALENDAR
VERSION:2.0
PRODID:-//hacksw/handcal//NONSGML v1.0//EN
CALSCALE:GREGORIAN
BEGIN:VEVENT
LOCATION:Cinéma Le Régent
DESCRIPTION:« Quand on n’a que l’amour… à offrir en partage » pour reprendre les paroles de la chanson de Brel. Oui\, l’amour. Le petit cupidon ailé qui ne ménage pas ses flèches et les adresse avec une belle équité à tout un chacun et chacune. Il volettera sur la 43ème édition du festival\, c’est décidé\, [&hellip\;]
DTSTART:20251003T000000Z
DTEND:20251018T000000Z
SUMMARY:L’amour\, l’amour\, l’amour | Arte Mare – U festivale di u film mediterraneu – 43e édition
URL;VALUE=URI:https://agenda.bastia.corsica/agenda/lamour-lamour-lamour-arte-mare-u-festivale-di-u-film-mediterraneu-43e-edition/
DTSTAMP:20260423T172603Z
UID:69ea562ba7ef6
END:VEVENT
END:VCALENDAR