BEGIN:VCALENDAR
VERSION:2.0
PRODID:-//hacksw/handcal//NONSGML v1.0//EN
CALSCALE:GREGORIAN
BEGIN:VEVENT
LOCATION:Centru culturale Alb&rsquo\;Oru
DESCRIPTION:14H+15H / + 6ANS Atelier Conte &amp\; bruitages. D&rsquo\;après le livre de Francette Orsoni Choisir un livre\, c’est décider de partir en voyage ! Et on ne sait jamais ce qui va arriver… Fighidigna sort malgré elle d’un livre ouvert et cherche à comprendre où elle est. Elle se retrouve dans un étrange théâtre noir [&hellip\;]
DTSTART:20251115T130000Z
DTEND:20251115T140000Z
SUMMARY:Autour du spectacle « Fighidigna » | La Cie Les Trois Mâts
URL;VALUE=URI:https://agenda.bastia.corsica/agenda/autour-du-spectacle-fighidigna-la-cie-les-trois-mats/
DTSTAMP:20260422T140039Z
UID:69e8d487ed93a
END:VEVENT
END:VCALENDAR