BEGIN:VCALENDAR
VERSION:2.0
PRODID:-//hacksw/handcal//NONSGML v1.0//EN
CALSCALE:GREGORIAN
BEGIN:VEVENT
LOCATION:Centru culturale Alb&rsquo\;Oru
DESCRIPTION:Si la beauté avait une bande son ! Orange Blossom est la vision de Carlos Robles Arenas\, un compositeur mexicain basé à Nantes qui a été piocher dans la tradition turque\, égyptienne\, malienne\, sénégalaise et cubaine\, avec des voix chantées en arabe\, persan et portugais pour offrir au monde un quatrième album de musique actuelle\, [&hellip\;]
DTSTART:20260430T193000Z
DTEND:20260430T203000Z
SUMMARY:Orange Blossom
URL;VALUE=URI:https://agenda.bastia.corsica/agenda/orange-blossom/
DTSTAMP:20260422T133744Z
UID:69e8cf28d0c90
END:VEVENT
END:VCALENDAR