BEGIN:VCALENDAR
VERSION:2.0
PRODID:-//hacksw/handcal//NONSGML v1.0//EN
CALSCALE:GREGORIAN
BEGIN:VEVENT
LOCATION:Centru culturale Alb&rsquo\;Oru
DESCRIPTION:Le troisième opus de l&rsquo\;œuvre gigantesque de Cervantès\, par la compagniue Unità Teatrale\, mis en scène par Jean-Pierre Lanfranchi. Troisième et dernière sortie de nos protagonistes. Leurs aventures continuent mais désormais ils sont connus et leurs déboires découleront de leur notoriété. Ils iront encore une fois à la recherche de Dulcinea\, rencontreront d’étranges personnages et [&hellip\;]
DTSTART:20260523T193000Z
DTEND:20260523T203000Z
SUMMARY:Don ch’è rottu – épisode 3 | Compagnie Unità Teatrale
URL;VALUE=URI:https://agenda.bastia.corsica/agenda/portrait-medhi-kerkouche-item-2-item-0-item-1-item-0-item-1-item-0-item-0/
DTSTAMP:20260420T041649Z
UID:69e5a8b180f07
END:VEVENT
END:VCALENDAR