BEGIN:VCALENDAR
VERSION:2.0
PRODID:-//hacksw/handcal//NONSGML v1.0//EN
CALSCALE:GREGORIAN
BEGIN:VEVENT
LOCATION:Mediateca Centru Cità
DESCRIPTION:Un mercredi par mois à 14h Tout public Nous vous proposons alternativement de venir jouer avec nos jeux\, écouter nos histoires\, découvrir les supports numériques (casque VR).
DTSTART:20251112T130000Z
DTEND:20251112T140000Z
SUMMARY:Carte Blanche à la Médiathèque
URL;VALUE=URI:https://agenda.bastia.corsica/agenda/carte-blanche-a-la-mediatheque/
DTSTAMP:20260419T152733Z
UID:69e4f4652eb6d
END:VEVENT
END:VCALENDAR