BEGIN:VCALENDAR
VERSION:2.0
PRODID:-//hacksw/handcal//NONSGML v1.0//EN
CALSCALE:GREGORIAN
BEGIN:VEVENT
LOCATION:Mediateca Centru Cità
DESCRIPTION:En famille &#8211\; Entrée libre Atelier familial animé par Laetitia Ansaldi (diététicienne-nutritionniste) pour apprendre à préparer de bons petits déjeuners et des goûters équilibrés.
DTSTART:20260506T080000Z
DTEND:20260506T090000Z
SUMMARY:Nutrice si bè
URL;VALUE=URI:https://agenda.bastia.corsica/agenda/nutrice-si-be-4-item-2/
DTSTAMP:20260420T025803Z
UID:69e5963b150fb
END:VEVENT
END:VCALENDAR