BEGIN:VCALENDAR
VERSION:2.0
PRODID:-//hacksw/handcal//NONSGML v1.0//EN
CALSCALE:GREGORIAN
BEGIN:VEVENT
LOCATION:Casa di e Scenze
DESCRIPTION:Tout public &#8211\; Réservation obligatoire De Ariane Lamarsaude &amp\; Stéphane Jacques Année de production 2022 &#8211\; 52 min &#8211\; Arte Synopsis : on les dit muets\, amnésiques\, ou encore insensibles à la douleur. Pourtant\, les scientifiques découvrent jour après jour que les poissons font preuve de capacités étonnantes. Ils auraient une organisation sociale trépidante\, de [&hellip\;]
DTSTART:20251011T140000Z
DTEND:20251011T150000Z
SUMMARY:« Des poissons pas si cons ? » | Fête de la science
URL;VALUE=URI:https://agenda.bastia.corsica/agenda/village-des-sciences-sur-lintelligence-des-animaux-marins-fete-de-la-science-item-2/
DTSTAMP:20260423T155951Z
UID:69ea41f7e7c24
END:VEVENT
END:VCALENDAR