BEGIN:VCALENDAR
VERSION:2.0
PRODID:-//hacksw/handcal//NONSGML v1.0//EN
CALSCALE:GREGORIAN
BEGIN:VEVENT
LOCATION:Casa di e Scenze
DESCRIPTION:De 10h à 10h45 ou de 11h à 11h45 Avec l’association Flabelline plongée &#8211\; Pour les 3/7 ans Avec l’association Flabelline plongée Découvrons le monde marin grâce à de nombreux jeux sur les espèces de la mer Méditerranée. Vous deviendrez incollables sur la chaine alimentaire ou encore sur les milieux marins. Puis\, testez la méditation [&hellip\;]
DTSTART:20260318T090000Z
DTEND:20260318T100000Z
SUMMARY:Eveils | Espèces marines et méditation aquatique
URL;VALUE=URI:https://agenda.bastia.corsica/agenda/eveils-especes-marines-et-meditation-aquatique-item-0/
DTSTAMP:20260420T140034Z
UID:69e63182645fd
END:VEVENT
END:VCALENDAR