BEGIN:VCALENDAR
VERSION:2.0
PRODID:-//hacksw/handcal//NONSGML v1.0//EN
CALSCALE:GREGORIAN
BEGIN:VEVENT
LOCATION:Casa di e Scenze
DESCRIPTION:De 10h à 10h45 ou de 11h à 11h45 Avec l’association OZ &#8211\; Pour les 3/7 ans Un voyage dans le monde fascinant du canyon méditerranéen vous attend ! Des profondeurs vers la surface\, nous viendrons nous ressourcer dans nos herbiers de posidonie\, plante essentielle pour l’écosystème marin. Tarif 2€ Pré-inscription obligatoire et paiement en [&hellip\;]
DTSTART:20260408T090000Z
DTEND:20260408T100000Z
SUMMARY:Eveils | Des abysses aux herbiers : La posidonie poumon de la méditerranée
URL;VALUE=URI:https://agenda.bastia.corsica/agenda/eveils-des-abysses-aux-herbiers-la-posidonie-poumon-de-la-mediterranee/
DTSTAMP:20260422T095153Z
UID:69e89a39d5805
END:VEVENT
END:VCALENDAR