BEGIN:VCALENDAR
VERSION:2.0
PRODID:-//hacksw/handcal//NONSGML v1.0//EN
CALSCALE:GREGORIAN
BEGIN:VEVENT
LOCATION:Mediateca Barberine Duriani
DESCRIPTION:Venez vous relaxer tout en apprenant à confectionner bonnets\, écharpes… et en écoutant des textes lus.
DTSTART:20260606T130000Z
DTEND:20260606T140000Z
SUMMARY:Atelier Tricot-Lecture
URL;VALUE=URI:https://agenda.bastia.corsica/agenda/atelier-tricot-lecture-23-item-7/
DTSTAMP:20260420T025439Z
UID:69e5956fe71bf
END:VEVENT
END:VCALENDAR