BEGIN:VCALENDAR
VERSION:2.0
PRODID:-//hacksw/handcal//NONSGML v1.0//EN
CALSCALE:GREGORIAN
BEGIN:VEVENT
LOCATION:Mediateca Barberine Duriani
DESCRIPTION:Venez vous relaxer tout en apprenant à confectionner bonnets\, écharpes… et en écoutant des textes lus.
DTSTART:20260704T130000Z
DTEND:20260704T140000Z
SUMMARY:Atelier Tricot-Lecture
URL;VALUE=URI:https://agenda.bastia.corsica/agenda/atelier-tricot-lecture-23-item-8/
DTSTAMP:20260420T025546Z
UID:69e595b27afbe
END:VEVENT
END:VCALENDAR