BEGIN:VCALENDAR
VERSION:2.0
PRODID:-//hacksw/handcal//NONSGML v1.0//EN
CALSCALE:GREGORIAN
BEGIN:VEVENT
LOCATION:Mediateca Centru Cità
DESCRIPTION:Tous les mercredis | tout public Sur réservation Venez découvrir des histoires fascinantes\, des personnages attachants et des aventures inoubliables dans une ambiance conviviale. Une expérience cinématographique enrichissante pour toute la famille ! Information : 04 95 58 46 00 / Par Mail
DTSTART:20260107T130000Z
DTEND:20260107T140000Z
SUMMARY:Visionnage de films jeune public
URL;VALUE=URI:https://agenda.bastia.corsica/agenda/visionnage-de-films-jeune-public-item-9/
DTSTAMP:20260423T101527Z
UID:69e9f13f65648
END:VEVENT
END:VCALENDAR