BEGIN:VCALENDAR
VERSION:2.0
PRODID:-//hacksw/handcal//NONSGML v1.0//EN
CALSCALE:GREGORIAN
BEGIN:VEVENT
LOCATION:Mediateca Centru Cità
DESCRIPTION:Tous les 1ers mercredis du mois 14h30 à 16h30 A partir de 7 ans Atelier créatif de pliage de papier.
DTSTART:20260701T133000Z
DTEND:20260701T143000Z
SUMMARY:Origami
URL;VALUE=URI:https://agenda.bastia.corsica/agenda/origami-item-8/
DTSTAMP:20260420T025742Z
UID:69e59626c8971
END:VEVENT
END:VCALENDAR