BEGIN:VCALENDAR
VERSION:2.0
PRODID:-//hacksw/handcal//NONSGML v1.0//EN
CALSCALE:GREGORIAN
BEGIN:VEVENT
LOCATION:Mediateca Centru Cità
DESCRIPTION:Tous les 3èmes mercredis du mois de 14h30 à 16h30 A partir de 8 ans Atelier de découverte et pratique de la calligraphie japonaise.
DTSTART:20260520T133000Z
DTEND:20260520T143000Z
SUMMARY:Calligraphie
URL;VALUE=URI:https://agenda.bastia.corsica/agenda/calligraphie-item-5/
DTSTAMP:20260420T041819Z
UID:69e5a90b418a4
END:VEVENT
END:VCALENDAR