BEGIN:VCALENDAR
VERSION:2.0
PRODID:-//hacksw/handcal//NONSGML v1.0//EN
CALSCALE:GREGORIAN
BEGIN:VEVENT
LOCATION:Mediateca Centru Cità
DESCRIPTION:Tous les 3èmes mercredis du mois de 14h30 à 16h30 A partir de 8 ans Atelier de découverte et pratique de la calligraphie japonaise.
DTSTART:20260617T133000Z
DTEND:20260617T143000Z
SUMMARY:Calligraphie
URL;VALUE=URI:https://agenda.bastia.corsica/agenda/calligraphie-item-6/
DTSTAMP:20260420T025715Z
UID:69e5960bb07a4
END:VEVENT
END:VCALENDAR