BEGIN:VCALENDAR
VERSION:2.0
PRODID:-//hacksw/handcal//NONSGML v1.0//EN
CALSCALE:GREGORIAN
BEGIN:VEVENT
LOCATION:Mediateca Barberine Duriani
DESCRIPTION:Ateliers sensoriels pour les séniors atteints de maladies neurodégénératives portant sur la nutrition. De 13H30 à 15H30 Sur inscription : 06 76 38 94 89 &#8211\; corsemne@gmail.com
DTSTART:20251016T123000Z
DTEND:20251016T133000Z
SUMMARY:« Memoria Viva » | Atelier Musique
URL;VALUE=URI:https://agenda.bastia.corsica/agenda/memoria-viva-atelier-musique/
DTSTAMP:20260421T161945Z
UID:69e7a3a19d99f
END:VEVENT
END:VCALENDAR