BEGIN:VCALENDAR
VERSION:2.0
PRODID:-//hacksw/handcal//NONSGML v1.0//EN
CALSCALE:GREGORIAN
BEGIN:VEVENT
LOCATION:Casa di e Lingue
DESCRIPTION:Un jeu d’aventure historique dans la ville de Bastia Valoriser le patrimoine historique et linguistique de Bastia à travers un jeu immersif qui associe découverte urbaine\, esprit d’équipe et plaisir de l’enquête. Date : 11 octobre Départ : De la Conca Marina à la Casa di e Lingue\, en passant par les ruelles de la vieille [&hellip\;]
DTSTART:20251011T000000Z
DTEND:20251011T000000Z
SUMMARY:ESCAPE GAME “PAOLI È I SUSSURI DI U PASSATU”
URL;VALUE=URI:https://agenda.bastia.corsica/agenda/seguitate-a-scarpata-di-paoli-escape-game/
DTSTAMP:20260425T152539Z
UID:69ecdcf33e578
END:VEVENT
END:VCALENDAR