BEGIN:VCALENDAR
VERSION:2.0
PRODID:-//hacksw/handcal//NONSGML v1.0//EN
CALSCALE:GREGORIAN
BEGIN:VEVENT
LOCATION:Centre culturel Una Volta
DESCRIPTION:Mater / Matière naît de la rencontre de quatre artistes unis par le désir d’explorer les frontières entre sculpture\, danse\, musique et cinéma. Cette création audiovisuelle collaborative transforme le triptyque « En contre-plongée\, la mer » de Jeanne de Petriconi en une expérience artistique pluridisciplinaire inédite. Souhaitant enrichir l’expérience de l’oeuvre sculpturale\, les artistes choisissent de réactiver les sculptures par le mouvement\, [&hellip\;]
DTSTART:20251211T170000Z
DTEND:20251211T180000Z
SUMMARY:Mater / Matière | PRUIEZZIONE PERFORMANZA
URL;VALUE=URI:https://agenda.bastia.corsica/agenda/mater-matiere-pruiezzione-performanza/
DTSTAMP:20260421T082130Z
UID:69e7338a526e5
END:VEVENT
END:VCALENDAR