BEGIN:VCALENDAR
VERSION:2.0
PRODID:-//hacksw/handcal//NONSGML v1.0//EN
CALSCALE:GREGORIAN
BEGIN:VEVENT
LOCATION:Casa di e Lingue
DESCRIPTION:Scontru ingiru à l’opera di Dumenicu Degli Esposti animatu da Janine Vittori cù a presenza di Vannina Bernard-Leoni\, cummissaria di a mostra\, Marcel Fortini\, direttore di u Centru mediterraneu di a fottugrafia\, è Michel Rossi\, amicu di l’artistu. Metteranu in risaltu l’andatura di Dumenicu Degli Esposti\, a so leia cù a Corsica è l’apertura universale [&hellip\;]
DTSTART:20260120T173000Z
DTEND:20260120T183000Z
SUMMARY:Stonda « da a Corsica à l’Universale : l’opera di Dominique Degli Esposti »
URL;VALUE=URI:https://agenda.bastia.corsica/agenda/stonda-da-a-corsica-a-luniversale-lopera-di-dominique-degli-esposti/
DTSTAMP:20260420T113923Z
UID:69e6106b37632
END:VEVENT
END:VCALENDAR