BEGIN:VCALENDAR
VERSION:2.0
PRODID:-//hacksw/handcal//NONSGML v1.0//EN
CALSCALE:GREGORIAN
BEGIN:VEVENT
LOCATION:Casa di e Lingue
DESCRIPTION:
DTSTART:20260604T170000Z
DTEND:20260604T180000Z
SUMMARY:Restituzione attelu praticalingua
URL;VALUE=URI:https://agenda.bastia.corsica/agenda/1981-le-sporting-une-coupe-aux-couleurs-du-peuple-corse-item-3/
DTSTAMP:20260420T041741Z
UID:69e5a8e5927cc
END:VEVENT
END:VCALENDAR