BEGIN:VCALENDAR
VERSION:2.0
PRODID:-//hacksw/handcal//NONSGML v1.0//EN
CALSCALE:GREGORIAN
BEGIN:VEVENT
LOCATION:Bibliuteca di studii è di ricerca Tommasò Prela
DESCRIPTION:Présentation/lectures François Xavier Renucci\, Norbert Paganelli
DTSTART:20260121T170000Z
DTEND:20260121T180000Z
SUMMARY:Cabaret Poétique | Hommage à  Marie-Jean Vinciguerra
URL;VALUE=URI:https://agenda.bastia.corsica/agenda/cabaret-poetique-hommage-a-marie-jean-vinciguerra/
DTSTAMP:20260421T115330Z
UID:69e7653a74254
END:VEVENT
END:VCALENDAR