BEGIN:VCALENDAR
VERSION:2.0
PRODID:-//hacksw/handcal//NONSGML v1.0//EN
CALSCALE:GREGORIAN
BEGIN:VEVENT
LOCATION:Centru culturale Alb&rsquo\;Oru
DESCRIPTION:L&rsquo\;Oeuf de l&rsquo\;Ange de Mamoru Oshii\, 1985\, 1h11\, à partir de 12 ans Une jeune fille fragile parcourt un monde obscur et dangereux. Sa survie semble dépendre d’un œuf mystérieux qu’elle transporte. Tarifs projection Séance : 6€ &#8211\; Pass journée : 10€ (achat sur place) Infurmazione : 04 95 47 47 00 Un avvinementu prupostu [&hellip\;]
DTSTART:20260313T200000Z
DTEND:20260313T210000Z
SUMMARY:Projection « L’Oeuf de l’Ange » | Japanimania #2
URL;VALUE=URI:https://agenda.bastia.corsica/agenda/projection-loeuf-de-lange-japanimania-2/
DTSTAMP:20260421T081951Z
UID:69e733278e824
END:VEVENT
END:VCALENDAR