BEGIN:VCALENDAR
VERSION:2.0
PRODID:-//hacksw/handcal//NONSGML v1.0//EN
CALSCALE:GREGORIAN
BEGIN:VEVENT
LOCATION:Mediateca Centru Cità
DESCRIPTION:Universitaire et spécialiste du genre\, Ugo Bellagamba explorera les représentations des femmes dans la science-fiction\, entre stéréotypes\, résistances et réinventions. Il mettra aussi en lumière le rôle des autrices qui ont transformé le genre de l’intérieur. Ugo Bellagamba hè scrittore di scenza finta è maestra di cunferenze in dirittu à l’Université Côte d’Azur. Hè dinù [&hellip\;]
DTSTART:20260308T133000Z
DTEND:20260308T143000Z
SUMMARY:« Ce que la science-fiction fait aux femmes\, ce que les femmes font à la science-fiction » | Imaginà
URL;VALUE=URI:https://agenda.bastia.corsica/agenda/voyage-intergalactique-imagina-item-0/
DTSTAMP:20260421T082200Z
UID:69e733a8287ff
END:VEVENT
END:VCALENDAR