BEGIN:VCALENDAR
VERSION:2.0
PRODID:-//hacksw/handcal//NONSGML v1.0//EN
CALSCALE:GREGORIAN
BEGIN:VEVENT
LOCATION:Cinéma Le Régent
DESCRIPTION:Les Fils de l’homme &gt\; 2006 &#8211\; 1h49 &#8211\; d’Alfonso Cuarón avec Julianne Moore\, Clive Owen et Michael Caine. VOSTFR\, Déconseillé aux moins de 12 ans Dans une société futuriste où les êtres humains ne parviennent plus à se reproduire\, l’annonce de la mort de la plus jeune personne\, âgée de 18 ans\, met la [&hellip\;]
DTSTART:20260308T173000Z
DTEND:20260308T183000Z
SUMMARY:Les Fils de l’homme | Imaginà
URL;VALUE=URI:https://agenda.bastia.corsica/agenda/voyage-intergalactique-imagina-item-1/
DTSTAMP:20260421T082149Z
UID:69e7339d44db2
END:VEVENT
END:VCALENDAR