BEGIN:VCALENDAR
VERSION:2.0
PRODID:-//hacksw/handcal//NONSGML v1.0//EN
CALSCALE:GREGORIAN
BEGIN:VEVENT
LOCATION:Centru culturale Alb&rsquo\;Oru
DESCRIPTION:Exposition du 12 au 30 mai Sur la planète\, l&rsquo\;accès à l&rsquo\;eau\, l&rsquo\;assainissement et l&rsquo\;hygiène se sont améliorés. Pourtant 30% de la population mondiale n&rsquo\;a pas accès à l&rsquo\;eau potable à domicile. Il y a l&rsquo\;eau que l&rsquo\;on boit\, avec laquelle on cuisine\, l&rsquo\;eau pour se laver les mains\, pour faire la vaisselle\, la lessive\, [&hellip\;]
DTSTART:20260512T170000Z
DTEND:20260512T180000Z
SUMMARY:Vernicera | « L’eau\, une affaire de famille « 
URL;VALUE=URI:https://agenda.bastia.corsica/agenda/vernicera-leau-une-affaire-de-famille/
DTSTAMP:20260420T025121Z
UID:69e594a9d05e1
END:VEVENT
END:VCALENDAR