BEGIN:VCALENDAR
VERSION:2.0
PRODID:-//hacksw/handcal//NONSGML v1.0//EN
CALSCALE:GREGORIAN
BEGIN:VEVENT
LOCATION:Arsenale
DESCRIPTION:Exposition commune à l&rsquo\;Arsenale du 19 mai au 05 juin Isabelle Pautrot est une artiste photographe qui effleure les frontières du visible à travers la paréidolie et le portrait. Son travail naît d’une beauté silencieuse\, chaque regard surgissant comme un secret. Dans la pierre le bois\, la glace\, le vent\, dans le regard des êtres\, [&hellip\;]
DTSTART:20260519T170000Z
DTEND:20260519T180000Z
SUMMARY:Vernicera | « Perceptions »
URL;VALUE=URI:https://agenda.bastia.corsica/agenda/vernicera-perceptions/
DTSTAMP:20260420T025127Z
UID:69e594afdb1c5
END:VEVENT
END:VCALENDAR