BEGIN:VCALENDAR
VERSION:2.0
PRODID:-//hacksw/handcal//NONSGML v1.0//EN
CALSCALE:GREGORIAN
BEGIN:VEVENT
LOCATION:Place Saint Nicolas
DESCRIPTION:Le CCAS de la Ville de Bastia et son centre social organisent\, pour sa 5è édition\, le marché des jeunes ! Cette année c’est sur la Place Saint-Nicolas que les jeunes installeront leur vide-dressing ! Vente\, échange\, accessoires\, et autres articles de seconde main\, venez participer et dénicher toutes sortes d’objets et de vêtements pour [&hellip\;]
DTSTART:20260530T093000Z
DTEND:20260530T103000Z
SUMMARY:Marché Vinted | Édition n°5
URL;VALUE=URI:https://agenda.bastia.corsica/agenda/marche-vinted-edition-n5/
DTSTAMP:20260421T135752Z
UID:69e78260aa7a6
END:VEVENT
END:VCALENDAR