BEGIN:VCALENDAR
VERSION:2.0
PRODID:-//hacksw/handcal//NONSGML v1.0//EN
CALSCALE:GREGORIAN
BEGIN:VEVENT
LOCATION:Jardins du Fangu
DESCRIPTION:« Carrozzu in Bastia »\, 3ème course de caisses à savon de Bastia\, au jardin du Fango Animations pour toute la famille &#8211\; Restauration &amp\; Buvette sur place Contact : Gilles Secchi &#8211\; 06 24 64 74 02 Au programme : 10h : Ouverture du village 12h : Inauguration officielle 13h : Parade des équipages 14h : [&hellip\;]
DTSTART:20260514T090000Z
DTEND:20260514T100000Z
SUMMARY:Carrozzu in Bastia | 3ème édition
URL;VALUE=URI:https://agenda.bastia.corsica/agenda/carrozzu-in-bastia-3eme-edition/
DTSTAMP:20260423T131743Z
UID:69ea1bf7f2125
END:VEVENT
END:VCALENDAR