BEGIN:VCALENDAR
VERSION:2.0
PRODID:-//hacksw/handcal//NONSGML v1.0//EN
CALSCALE:GREGORIAN
BEGIN:VEVENT
LOCATION:Place du Donjon
DESCRIPTION:Depuis 5 ans\, la Citadelle accueille une journée de fête\, de partage et de musique ! &#8211\; En partenariat vec RCFM et les associations de la Citadelle – Citatella\, Assunta Gloriosa et le syndicat des couteliers de Haute-Corse. Retrouvez des animations gratuites tout au long de la journée : De 16h à 20h : Jeux [&hellip\;]
DTSTART:20220815T150000Z
DTEND:20220815T160000Z
SUMMARY:Citatella in Festa !
URL;VALUE=URI:https://agenda.bastia.corsica/agenda/citatella-in-festa/
DTSTAMP:20260422T094442Z
UID:69e8988a41b84
END:VEVENT
END:VCALENDAR