BEGIN:VCALENDAR
VERSION:2.0
PRODID:-//hacksw/handcal//NONSGML v1.0//EN
CALSCALE:GREGORIAN
BEGIN:VEVENT
LOCATION:Parvis de l&rsquo\;Église San Roccu
DESCRIPTION:Pendant les mois de juillet et août\, rejoignez tous les jeudis la Place St Roch\, rue Napoléon\, pour danser un pas de tango\, vous mettre au rythme de la salsa et bien d’autres découvertes encore.
DTSTART:20220630T190000Z
DTEND:20220630T200000Z
SUMMARY:REPORT À UNE DATE ULTERIEURE : Milonga di notte
URL;VALUE=URI:https://agenda.bastia.corsica/agenda/milonga-di-notte-2/
DTSTAMP:20260424T073252Z
UID:69eb1ca42f5a6
END:VEVENT
END:VCALENDAR