BEGIN:VCALENDAR
VERSION:2.0
PRODID:-//hacksw/handcal//NONSGML v1.0//EN
CALSCALE:GREGORIAN
BEGIN:VEVENT
LOCATION:Fabrique de théâtre
DESCRIPTION:Deuxième soirée du Festival Dissidanse Itinérance 2022 avec un parcours chorégraphique en 3 étapes dès 17h30 !
DTSTART:20220707T163000Z
DTEND:20220707T173000Z
SUMMARY:Dissidanse itinérance : Parcours chorégraphique en 3 étapes
URL;VALUE=URI:https://agenda.bastia.corsica/agenda/dissidanse-itinerance-parcours-choregraphique-en-3-etapes/
DTSTAMP:20260426T040552Z
UID:69ed8f2018bf9
END:VEVENT
END:VCALENDAR