BEGIN:VCALENDAR
VERSION:2.0
PRODID:-//hacksw/handcal//NONSGML v1.0//EN
CALSCALE:GREGORIAN
BEGIN:VEVENT
LOCATION:Teatru Municipale di Bastia
DESCRIPTION:Dans le théâtre soudain un homme surgit\, l’air en fuite. Qui est à ses trousses ? Y a-t-il vraiment une menace ? Il pourrait faire marche arrière\, retourner à sa vie. Il est encore temps
DTSTART:20230513T193000Z
DTEND:20230513T203000Z
SUMMARY:Les élucubrations d’un homme soudain frappé par la grâce
URL;VALUE=URI:https://agenda.bastia.corsica/agenda/les-elucubrations-dun-homme-soudain-frappe-par-la-grace/
DTSTAMP:20260424T182139Z
UID:69ebb4b35e88d
END:VEVENT
END:VCALENDAR