BEGIN:VCALENDAR
VERSION:2.0
PRODID:-//hacksw/handcal//NONSGML v1.0//EN
CALSCALE:GREGORIAN
BEGIN:VEVENT
LOCATION:Centre culturel Una Volta
DESCRIPTION:Le corps habite l’espace des grottes inaccessibles\, la danse se déploie\, en écho aux formes tourmentées des massifs de porphyre. Dans cet éden bleu\, patrimoine mondial de l’humanité\, les goélands nous rappellent la fragilité du monde.
DTSTART:20230523T173000Z
DTEND:20230523T183000Z
SUMMARY:Vernissage de Plateforme Danse : « Installation »
URL;VALUE=URI:https://agenda.bastia.corsica/agenda/vernissage-de-plateforme-danse-installation/
DTSTAMP:20260419T215252Z
UID:69e54eb4942a8
END:VEVENT
END:VCALENDAR