BEGIN:VCALENDAR
VERSION:2.0
PRODID:-//hacksw/handcal//NONSGML v1.0//EN
CALSCALE:GREGORIAN
BEGIN:VEVENT
LOCATION:Jardins du Musée de Bastia
DESCRIPTION:En parteneriat avec la Direction des Affaires Culturelles de la Ville de Bastia\, Bière Ribella et I Fuletti émaho\, Ribella\, I Fuletti et les collectifs d&rsquo\;artistes insulaires joignent de nouveau leurs énergies pour réchauffer les nuits fraiches de l&rsquo\;automne ! Au programme de l&rsquo\;Arena Social Club\, du premium 100% local à tous les étages.
DTSTART:20221022T180000Z
DTEND:20221022T190000Z
SUMMARY:Arena Social Club – Bastia Ville Digitale
URL;VALUE=URI:https://agenda.bastia.corsica/agenda/arena-social-club-bastia-ville-digitale/
DTSTAMP:20260426T034204Z
UID:69ed898ca5362
END:VEVENT
END:VCALENDAR