BEGIN:VCALENDAR
VERSION:2.0
PRODID:-//hacksw/handcal//NONSGML v1.0//EN
CALSCALE:GREGORIAN
BEGIN:VEVENT
LOCATION:Cinéma Le Studio
DESCRIPTION:L'association du Ciné-Club en partenariat avec le cinéma Le studio présente la séance du 8 novembre avec un film d'Otto Preminger qui ouvre un cycle de quatre soirées dédiées au cinéma américain : The Man with the golden arm.
DTSTART:20221108T173000Z
DTEND:20221108T183000Z
SUMMARY:Projection – « L’homme au bras d’or »
URL;VALUE=URI:https://agenda.bastia.corsica/agenda/projection-lhomme-au-bras-dor/
DTSTAMP:20260424T132103Z
UID:69eb6e3fee381
END:VEVENT
END:VCALENDAR