BEGIN:VCALENDAR
VERSION:2.0
PRODID:-//hacksw/handcal//NONSGML v1.0//EN
CALSCALE:GREGORIAN
BEGIN:VEVENT
LOCATION:Immaculée Conception
DESCRIPTION:Sorru in Musica vous invite à un concert gratuit. Une première partie avec un quatuor classique suivi d&rsquo\;une seconde partié composée d&rsquo\;un ensemble piano et d&rsquo\;un violoniste. Avec Bertrand CERVERA au violon.
DTSTART:20221124T180000Z
DTEND:20221124T190000Z
SUMMARY:Concert de musique classique
URL;VALUE=URI:https://agenda.bastia.corsica/agenda/concert-de-musique-classique/
DTSTAMP:20260422T152842Z
UID:69e8e92a74d09
END:VEVENT
END:VCALENDAR