BEGIN:VCALENDAR
VERSION:2.0
PRODID:-//hacksw/handcal//NONSGML v1.0//EN
CALSCALE:GREGORIAN
BEGIN:VEVENT
LOCATION:Cinéma Le Studio
DESCRIPTION:« Easy Rider » de Dennis Hopper\, Prix de la meilleure première œuvre au Festival de Cannes 1969. Nomination à l’Oscar du meilleur acteur dans un second rôle pour Jack Nicholson en 1970 Scénario : Peter Fonda\, Dennis Hopper et Terry Southern Acteurs principaux : Peter Fonda\, Dennis Hopper\, Jack Nicholson. Musique : Roger McGuinn [&hellip\;]
DTSTART:20230131T173000Z
DTEND:20230131T183000Z
SUMMARY:La lettre du Ciné-Club : Easy Rider
URL;VALUE=URI:https://agenda.bastia.corsica/agenda/la-lettre-du-cine-club-easy-rider/
DTSTAMP:20260424T132205Z
UID:69eb6e7da5642
END:VEVENT
END:VCALENDAR