BEGIN:VCALENDAR
VERSION:2.0
PRODID:-//hacksw/handcal//NONSGML v1.0//EN
CALSCALE:GREGORIAN
BEGIN:VEVENT
LOCATION:Centru culturale Alb&rsquo\;Oru
DESCRIPTION:Le Chat potté découvre que sa passion pour l&rsquo\;aventure et son mépris du danger ont fini par lui coûter cher : il a épuisé huit de ses neuf vies\, et en a perdu le compte au passage. Afin de retomber sur ses pattes notre héros se lance littéralement dans la quête de sa vie. Tarifs [&hellip\;]
DTSTART:20230228T090000Z
DTEND:20230228T100000Z
SUMMARY:Ciné-Zitelli : Le Chat potté 2 : La dernière quête
URL;VALUE=URI:https://agenda.bastia.corsica/agenda/cine-zitelli-le-chat-potte-2-la-derniere-quete/
DTSTAMP:20260424T132002Z
UID:69eb6e02db649
END:VEVENT
END:VCALENDAR