BEGIN:VCALENDAR
VERSION:2.0
PRODID:-//hacksw/handcal//NONSGML v1.0//EN
CALSCALE:GREGORIAN
BEGIN:VEVENT
LOCATION:Centru culturale Alb&rsquo\;Oru
DESCRIPTION:3 contes\, 3 époques\, 3 univers : une épopée de l&rsquo\;Egypte antique\, une légende médiévale de l&rsquo\;Auvergne\, une fantaisie du XVIIIè siècle dans des costumes ottomans et des palais turcs Tarifs :  3€ pour les enfants 5€ pour les adultes &nbsp\; En partenariat avec le cinéma Le Régent
DTSTART:20230303T090000Z
DTEND:20230303T100000Z
SUMMARY:Ciné-Zitelli : Le pharaon\, le sauvage et la princesse
URL;VALUE=URI:https://agenda.bastia.corsica/agenda/cine-zitelli-le-pharaon-le-sauvage-et-la-princesse/
DTSTAMP:20260424T120639Z
UID:69eb5ccf883af
END:VEVENT
END:VCALENDAR