BEGIN:VCALENDAR
VERSION:2.0
PRODID:-//hacksw/handcal//NONSGML v1.0//EN
CALSCALE:GREGORIAN
BEGIN:VEVENT
LOCATION:Mediateca Barberine Duriani
DESCRIPTION:De 6 à 11 ans Découverte de danses et musiques de traditions populaires.
DTSTART:20230302T130000Z
DTEND:20230303T140000Z
SUMMARY:Stage de danses du monde
URL;VALUE=URI:https://agenda.bastia.corsica/agenda/stage-de-danses-du-monde/
DTSTAMP:20260423T052451Z
UID:69e9ad23d3af5
END:VEVENT
END:VCALENDAR