BEGIN:VCALENDAR
VERSION:2.0
PRODID:-//hacksw/handcal//NONSGML v1.0//EN
CALSCALE:GREGORIAN
BEGIN:VEVENT
LOCATION:Teatru Municipale di Bastia
DESCRIPTION:Le dimanche 12 mars\,  à la salle des Congrès du Théâtre de Bastia\, retrouvez-vous pour un moment convivial que vous connaissez déjà tous\, le thé dansant ! À partir de 14h\, avec une animation musicale qui animera cet après-midi ! Entrée : 2€ Inscriptions et informations : 04 95 55 97 84 &#8211\; 04 95 55 [&hellip\;]
DTSTART:20230312T130000Z
DTEND:20230312T140000Z
SUMMARY:Thé dansant
URL;VALUE=URI:https://agenda.bastia.corsica/agenda/the-dansant-2/
DTSTAMP:20260423T170844Z
UID:69ea521c06425
END:VEVENT
END:VCALENDAR