BEGIN:VCALENDAR
VERSION:2.0
PRODID:-//hacksw/handcal//NONSGML v1.0//EN
CALSCALE:GREGORIAN
BEGIN:VEVENT
LOCATION:Cinéma Le Studio
DESCRIPTION:Le film de Clara López et de Rubio Juan Pancorbo revient sur l’affaire « Julian Assange » et ses divulgations sur le site WikiLeaks. C’est au moyen de ce média que le journaliste autraslien dénonce les exactions des gouvernements aux quatre coins du globe. « Hacking Justice » revient en profondeur sur toute cette terrible [&hellip\;]
DTSTART:20230315T180000Z
DTEND:20230315T190000Z
SUMMARY:Projection « Hacking Justice Julian Assange »
URL;VALUE=URI:https://agenda.bastia.corsica/agenda/projection-hacking-justice-julian-assange/
DTSTAMP:20260421T082117Z
UID:69e7337d3e24d
END:VEVENT
END:VCALENDAR