BEGIN:VCALENDAR
VERSION:2.0
PRODID:-//hacksw/handcal//NONSGML v1.0//EN
CALSCALE:GREGORIAN
BEGIN:VEVENT
LOCATION:Cinéma Le Studio
DESCRIPTION:Dans le cadre de la lettre du Ciné-Club Sinopsi : Dans le Japon féodal\, alors que les guerres civiles font rage\, les généraux Washizu et Miki rentrent victorieux chez leur seigneur Tsuzuki. Ils traversent une mystérieuse forêt où ils rencontrent un esprit qui leur annonce leur destinée : Washizu deviendra seigneur du château de l’Araignée\, [&hellip\;]
DTSTART:20230321T174500Z
DTEND:20230321T184500Z
SUMMARY:Le Château de L’araignée – Akira Kurosawa
URL;VALUE=URI:https://agenda.bastia.corsica/agenda/le-chateau-de-laraignee-akira-kurosawa/
DTSTAMP:20260424T115827Z
UID:69eb5ae3b4948
END:VEVENT
END:VCALENDAR