BEGIN:VCALENDAR
VERSION:2.0
PRODID:-//hacksw/handcal//NONSGML v1.0//EN
CALSCALE:GREGORIAN
BEGIN:VEVENT
LOCATION:Centru culturale Alb&rsquo\;Oru
DESCRIPTION:Finir les morceaux\, mieux comprendre le mixage\, faire évoluer ses créations à partir d&rsquo\;une écoute analytique\, démos\, maquettes sur le logiciel Ableton Live. Cette journée est ouverte aux personnes souhaitant consolider leurs savoirs ou qui souhaitent découvrir l&rsquo\;univers de la Musique Assistée par Ordinateur. Tout public (dès 10 ans) &#8211\; De 10h à 12h et [&hellip\;]
DTSTART:20230422T090000Z
DTEND:20230422T100000Z
SUMMARY:Journée MAO animée par Pasqua Pancrazi
URL;VALUE=URI:https://agenda.bastia.corsica/agenda/journee-mao-animee-par-pasqua-pancrazi-3/
DTSTAMP:20260421T082130Z
UID:69e7338a9c020
END:VEVENT
END:VCALENDAR