BEGIN:VCALENDAR
VERSION:2.0
PRODID:-//hacksw/handcal//NONSGML v1.0//EN
CALSCALE:GREGORIAN
BEGIN:VEVENT
LOCATION:Centru culturale Alb&rsquo\;Oru
DESCRIPTION:Découverte de danses et musiques de traditions populaires. Stage de 3 jours  &#8211\; De 6 à 12 ans
DTSTART:20230418T093000Z
DTEND:20230420T103000Z
SUMMARY:Stage de danses du monde
URL;VALUE=URI:https://agenda.bastia.corsica/agenda/stage-de-danses-du-monde-2/
DTSTAMP:20260421T082009Z
UID:69e73339affaf
END:VEVENT
END:VCALENDAR