BEGIN:VCALENDAR
VERSION:2.0
PRODID:-//hacksw/handcal//NONSGML v1.0//EN
CALSCALE:GREGORIAN
BEGIN:VEVENT
LOCATION:Cinéma Le Studio
DESCRIPTION:A pròssima stonda di u Siné-Assòciu à u Studio sinemà in Bastia Cadreur / Uperatore: Mikhaïl Kaufman Montage / Muntatura: Yelizaveta Svilova Production / Pruduzzione : Studio Dovjenko Durée / Durata : 1h20 Année de sortie / Annata di esciuta : 1929 Pays de production / u paese di a pruduzzione : URSS/Russie Synopsis / [&hellip\;]
DTSTART:20230509T173000Z
DTEND:20230509T183000Z
SUMMARY:« L’homme à la caméra » de Dziga Vertov
URL;VALUE=URI:https://agenda.bastia.corsica/agenda/lhomme-a-la-camera-de-dziga-vertov/
DTSTAMP:20260424T103808Z
UID:69eb48102c16e
END:VEVENT
END:VCALENDAR